BEGIN:VCALENDAR
VERSION:2.0
PRODID:-//TVBH.TV - ECPv6.15.20//NONSGML v1.0//EN
CALSCALE:GREGORIAN
METHOD:PUBLISH
X-WR-CALNAME:TVBH.TV
X-ORIGINAL-URL:https://tvbh.tv
X-WR-CALDESC:Eventos para TVBH.TV
REFRESH-INTERVAL;VALUE=DURATION:PT1H
X-Robots-Tag:noindex
X-PUBLISHED-TTL:PT1H
BEGIN:VTIMEZONE
TZID:America/Sao_Paulo
BEGIN:STANDARD
TZOFFSETFROM:-0300
TZOFFSETTO:-0300
TZNAME:-03
DTSTART:20240101T000000
END:STANDARD
END:VTIMEZONE
BEGIN:VEVENT
DTSTART;TZID=America/Sao_Paulo:20251217T203000
DTEND;TZID=America/Sao_Paulo:20251218T230000
DTSTAMP:20260423T224719
CREATED:20251107T004221Z
LAST-MODIFIED:20251107T004221Z
UID:1263-1766003400-1766098800@tvbh.tv
SUMMARY:Filarmônica de Minas Gerais - Especial de Natal
DESCRIPTION:A Orquestra Filarmônica de Minas Gerais realiza\, nos dias 17 e 18 de dezembro\, às 20h30\, o Concerto Especial de Natal\, na Sala Minas Gerais\, em BH. O programa propõe uma viagem musical por tradições natalinas de diferentes países\, com arranjos e adaptações de canções que marcaram gerações. \nSob regência do maestro associado José Soares\, a apresentação reúne a Filarmônica e o Coral Canarinhos de Itabirito em um repertório que percorre composições de Johann Sebastian Bach\, Camille Saint-Saëns\, Benjamin Britten e John Leavitt. \nOs ingressos estão à venda no site www.filarmonica.art.br e na bilheteria da Sala Minas Gerais\, com valores a partir de R$ 39\,60 (inteira) e R$ 19\,80 (meia). \nFonte: SouBH
URL:https://tvbh.tv/evento/filarmonica-de-minas-gerais-especial-de-natal/
LOCATION:Sala Minas Gerais\, Rua Tenente Brito Melo\, 1090 - Barro Preto\, Belo Horizonte\, Minas Gerais
CATEGORIES:Concerto
ATTACH;FMTTYPE=image/webp:https://tvbh.tv/wp-content/uploads/2025/11/cult_ofmgnatal.webp
END:VEVENT
END:VCALENDAR