BEGIN:VCALENDAR
VERSION:2.0
PRODID:-//TVBH.TV - ECPv6.15.20//NONSGML v1.0//EN
CALSCALE:GREGORIAN
METHOD:PUBLISH
X-WR-CALNAME:TVBH.TV
X-ORIGINAL-URL:https://tvbh.tv
X-WR-CALDESC:Eventos para TVBH.TV
REFRESH-INTERVAL;VALUE=DURATION:PT1H
X-Robots-Tag:noindex
X-PUBLISHED-TTL:PT1H
BEGIN:VTIMEZONE
TZID:America/Sao_Paulo
BEGIN:STANDARD
TZOFFSETFROM:-0300
TZOFFSETTO:-0300
TZNAME:-03
DTSTART:20250101T000000
END:STANDARD
END:VTIMEZONE
BEGIN:VEVENT
DTSTART;TZID=America/Sao_Paulo:20260117T110000
DTEND;TZID=America/Sao_Paulo:20260131T200000
DTSTAMP:20260423T211317
CREATED:20260115T132156Z
LAST-MODIFIED:20260115T132156Z
UID:2233-1768647600-1769889600@tvbh.tv
SUMMARY:VAC 2026
DESCRIPTION:O VAC 2026 terá como foco primordial a continuidade do projeto de formação para possibilitar à classe artística e aos demais interessados a aquisição de novos conhecimentos e trocas de experiências por meio de pesquisas e vivências diversificadas. \nCom esse objetivo\, serão mantidas as áreas de teatro\, dança\, música\, artes visuais\, cinema e literatura. Serão oferecidas gratuitamente ao público oficinas presenciais\, além de uma feira de literatura\, exposições de artes visuais e mostras de filmes.
URL:https://tvbh.tv/evento/vac-2026/
LOCATION:Minas Gerais
ATTACH;FMTTYPE=image/jpeg:https://tvbh.tv/wp-content/uploads/2026/01/ag_vac16.jpg
END:VEVENT
BEGIN:VEVENT
DTSTART;TZID=America/Sao_Paulo:20260129T200000
DTEND;TZID=America/Sao_Paulo:20260130T210000
DTSTAMP:20260423T211317
CREATED:20260126T184702Z
LAST-MODIFIED:20260126T184702Z
UID:2405-1769716800-1769806800@tvbh.tv
SUMMARY:Grupo de Dança Primeiro Ato - Como Água
DESCRIPTION:“Como Água”\, o novo trabalho do Grupo de Dança Primeiro Ato\, chega como uma necessidade de refletirmos sobre a passagem do tempo e as nossas escolhas em como viver esse tempo. Considerando que “somos” natureza\, a obra procura trazer uma perspectiva do ser humano e do tempo\, relacionando-os com outras existências de vida e com o movimento da água\, que encontram caminhos diante dos obstáculos transformando caos em poesia. \n\nProdutor: Suely Machado \nDiretor: Suely Machado \nAutor: Marcela Rosa Quintão \nElenco: Direção: Suely Machado Assistente de Direção : Marcela Rosa. Concepção Coreográfica: Marcela Rosa. Criação de movimento em processo colaborativo/bailarinos: Alex Dias Marcela Rosa Marina de Santana Pedro Henrique Demétrio Tayná Barboza \nDuração: 50 minutos \nValor Ingresso Promocional Sinparc: R$ 25\,00 \nValor Ingresso Bilheteria: R$ 100\,00 \nCriança paga: Sim \nFigurinista: Pablo Ramon \nIluminador: Sarah Salgado Cordeiro dos Santos \nTecnico: Rony Rodrigues \nTrilha Original: Criação: Federico Puppi
URL:https://tvbh.tv/evento/grupo-de-danca-primeiro-ato-como-agua/
LOCATION:Palácio das Artes\, Av. Afonso Pena\, 1537\, Belo Horizonte\, Minas Gerais
CATEGORIES:Dança
ATTACH;FMTTYPE=image/webp:https://tvbh.tv/wp-content/uploads/2026/01/ac_comoagua.webp
END:VEVENT
END:VCALENDAR