BEGIN:VCALENDAR
VERSION:2.0
PRODID:-//TVBH.TV - ECPv6.15.20//NONSGML v1.0//EN
CALSCALE:GREGORIAN
METHOD:PUBLISH
X-WR-CALNAME:TVBH.TV
X-ORIGINAL-URL:https://tvbh.tv
X-WR-CALDESC:Eventos para TVBH.TV
REFRESH-INTERVAL;VALUE=DURATION:PT1H
X-Robots-Tag:noindex
X-PUBLISHED-TTL:PT1H
BEGIN:VTIMEZONE
TZID:America/Sao_Paulo
BEGIN:STANDARD
TZOFFSETFROM:-0300
TZOFFSETTO:-0300
TZNAME:-03
DTSTART:20250101T000000
END:STANDARD
END:VTIMEZONE
BEGIN:VEVENT
DTSTART;TZID=America/Sao_Paulo:20260207T140000
DTEND;TZID=America/Sao_Paulo:20260207T220000
DTSTAMP:20260423T182651
CREATED:20260123T114710Z
LAST-MODIFIED:20260123T114710Z
UID:2353-1770472800-1770501600@tvbh.tv
SUMMARY:Pré-carnaval Beira-Mar
DESCRIPTION:Venha curtir o pré=carnaval em um dos melhores pontos do Santo Antônio! \nRealização: Esquina do Zé e Bar do Gil \nApoio: Contos de Minas e TVBH \nData: 7 de fevereiro\nHorárro: a partir de 14h\nLocal: Rua Mar de Espanha\, 341 – Santo Antônio
URL:https://tvbh.tv/evento/pre-carnaval-beira-mar/
LOCATION:Mar de Espanha com Congonhas\, R. Mar de Espanha\, 341 - Santo Antônio\, Belo Horizonte\, Minas Gerais
CATEGORIES:Festa
ATTACH;FMTTYPE=image/jpeg:https://tvbh.tv/wp-content/uploads/2026/01/carnaval2026-site.jpg
END:VEVENT
END:VCALENDAR