BEGIN:VCALENDAR
VERSION:2.0
PRODID:-//TVBH.TV - ECPv6.15.20//NONSGML v1.0//EN
CALSCALE:GREGORIAN
METHOD:PUBLISH
X-WR-CALNAME:TVBH.TV
X-ORIGINAL-URL:https://tvbh.tv
X-WR-CALDESC:Eventos para TVBH.TV
REFRESH-INTERVAL;VALUE=DURATION:PT1H
X-Robots-Tag:noindex
X-PUBLISHED-TTL:PT1H
BEGIN:VTIMEZONE
TZID:America/Sao_Paulo
BEGIN:STANDARD
TZOFFSETFROM:-0300
TZOFFSETTO:-0300
TZNAME:-03
DTSTART:20250101T000000
END:STANDARD
END:VTIMEZONE
BEGIN:VEVENT
DTSTART;TZID=America/Sao_Paulo:20260215T150000
DTEND;TZID=America/Sao_Paulo:20260215T220000
DTSTAMP:20260423T182813
CREATED:20260203T150732Z
LAST-MODIFIED:20260203T150732Z
UID:2573-1771167600-1771192800@tvbh.tv
SUMMARY:Festa Ploc de Carnaval
DESCRIPTION:Festa Ploc de Carnaval chega pela primeira vez a BH em edição histórica no Mercado de Santa Tereza\, no dia 15 de fevereiro\, domingo de carnaval \nPela primeira vez\, Belo Horizonte vai receber a maior Festa Ploc da história\, o evento retrô mais famoso da América Latina\, que aterrissa na capital mineira no dia 15 de fevereiro\, domingo de Carnaval\, no Mercado de Santa Tereza. A tradicional Festa Ploc — ícone da cultura pop dos anos 70\, 80\, 90 e 2000 — promete um verdadeiro túnel do tempo\, revivendo os grandes bailes de Carnaval do passado com todo o brilho\, nostalgia e diversão que conquistaram gerações. \nEm formato premium\, o evento oferece ao público setores com mesas e cadeiras\, banheiros exclusivos e serviços diferenciados\, garantindo conforto e comodidade para quem deseja curtir a folia com estrutura de qualidade. A proposta é reunir um público maduro\, de alma jovem\, que viveu (ou gostaria de viver) a magia das décadas mais marcantes da música e da televisão brasileira. \nA edição de Carnaval em BH chega com um line-up grandioso\, reunindo nomes que fazem parte da memória afetiva de milhões de brasileiros: \nAtrações confirmadas: \n\nVinícius Cantuária\nAs Paquitas\nDigão (Raimundos)\nMarcelo Hayena (Uns e Outros)\nGuilherme Isnard (Zero)\nLuciano Nassyn (Trem da Alegria)\nAlex Gil (Polegar)\nDr. Silvana\nSilvinho Blau Blau\nFelipe Dylon\nLuciano Bahia\nAvellar Love (João Penca)\nÉrika Martins (Penélope)\nBanda Ploc\nDJ Dom LV\n\nCriada em 2004 no Rio de Janeiro pelo produtor Luciano Vianna (DJ Dom LV)\, a Festa Ploc rapidamente se tornou um fenômeno cultural. Com uma média de 170 eventos anuais\, seis turnês internacionais (Europa e EUA)\, três DVDs que somam mais de um milhão de cópias vendidas e mais de 5 milhões de pessoas impactadas globalmente\, a Ploc consolidou-se como a maior e mais tradicional festa retrô do Brasil. \nAgora\, pela primeira vez\, a energia da Ploc invade o Carnaval de Belo Horizonte com uma edição memorável\, misturando nostalgia\, hits inesquecíveis e uma atmosfera que só quem viveu (ou ama) as décadas mais divertidas pode entender. \nServiços: \nFesta Ploc de Carnaval \nData: 15 de fevereiro (domingo de carnaval) \nLocal: Mercado de Santa Tereza \nHorário: 15h às 22h \nIngressos: Sympla \nPreços: \nPista: a partir de R$ 110\,00 (meia) \nLugar na mesa: a partir de R$ 205\,00 (meia) \n*Mesas para 4 lugares. Os ingressos devem ser adquiridos individualmente\, por pessoa. \n**Haverá Ingresso Social mediante doação de 1 kg de alimento não perecível na portaria do evento\, exceto sal e fubá. \nClassificação: 18 anos.
URL:https://tvbh.tv/evento/festa-ploc-de-carnaval/
LOCATION:Mercado Distrital de Santa Tereza\, R. São Gotardo\, 273 - Santa Tereza\, Belo Horizonte\, Minas Gerais
CATEGORIES:Festa
ATTACH;FMTTYPE=image/jpeg:https://tvbh.tv/wp-content/uploads/2026/02/ac_festaploccarnaval.jpg
END:VEVENT
END:VCALENDAR