BEGIN:VCALENDAR
VERSION:2.0
PRODID:-//TVBH.TV - ECPv6.15.20//NONSGML v1.0//EN
CALSCALE:GREGORIAN
METHOD:PUBLISH
X-ORIGINAL-URL:https://tvbh.tv
X-WR-CALDESC:Eventos para TVBH.TV
REFRESH-INTERVAL;VALUE=DURATION:PT1H
X-Robots-Tag:noindex
X-PUBLISHED-TTL:PT1H
BEGIN:VTIMEZONE
TZID:America/Sao_Paulo
BEGIN:STANDARD
TZOFFSETFROM:-0300
TZOFFSETTO:-0300
TZNAME:-03
DTSTART:20250101T000000
END:STANDARD
END:VTIMEZONE
BEGIN:VEVENT
DTSTART;TZID=America/Sao_Paulo:20260313T170000
DTEND;TZID=America/Sao_Paulo:20260315T210000
DTSTAMP:20260423T165322
CREATED:20260311T152449Z
LAST-MODIFIED:20260311T152449Z
UID:2817-1773421200-1773608400@tvbh.tv
SUMMARY:Festival Rock na Rua
DESCRIPTION:
URL:https://tvbh.tv/evento/festival-rock-na-rua/
LOCATION:Avenida Saramenha\, Av. Saramenha\, 1927 - Guarani\, Belo Horizonte\, Minas Gerais
CATEGORIES:Festival
ATTACH;FMTTYPE=image/jpeg:https://tvbh.tv/wp-content/uploads/2026/03/ac_rockrua2.jpg
END:VEVENT
BEGIN:VEVENT
DTSTART;TZID=America/Sao_Paulo:20260313T210000
DTEND;TZID=America/Sao_Paulo:20260313T230000
DTSTAMP:20260423T165322
CREATED:20251216T194706Z
LAST-MODIFIED:20251216T194706Z
UID:2080-1773435600-1773442800@tvbh.tv
SUMMARY:Lobão Powertrio
DESCRIPTION:Lobão desembarca em BH com seu Power Trio no Palácio das Artes no dia 13 de março de 2026 \nNo repertório sucessos que atravessaram gerações e reafirmando a vitalidade de um repertório que faz parte da história da música brasileira \nCantor\, compositor e instrumentista\, Lobão se apresenta em Belo Horizonte com seu Power Trio no Palácio das Artes\, no dia 13 de março (sexta-feira)\, às 21h.\nO Power Trio de Lobão traz ao palco a energia essencial do rock em sua forma mais direta: guitarra\, baixo e bateria. Ao lado de Guto Passos (baixo) e Willian Paiva (bateria)\, Lobão assume a guitarra e a voz\, em um formato que resgata a sonoridade crua que sempre marcou sua trajetória artística.\nOs ingressos estão à venda nas bilheterias do Palácio das Artes e no site Eventim.\nO show percorre diferentes fases da carreira do artista\, reunindo sucessos que atravessaram gerações e reafirmando a vitalidade de um repertório que faz parte da história da música brasileira — e que permanece atual. A performance intensa do trio cria uma experiência vibrante e autêntica\, em sintonia com a criatividade que acompanha Lobão desde os anos 1970\, quando iniciou sua jornada na Vímana e na Blitz\, antes de consolidar-se em carreira solo.\nA década de 1980 marcou o início de Lobão como artista solo. Álbuns como Cena de Cinema (1982)\, Ronaldo Foi pra Guerra (1984) e O Rock Errou (1985) consagraram sucessos como “O Homem-Baile”\, “Me Chama” e “Revanche”\, entre tantos outros. A faixa-título do álbum Vida Louca Vida também se destacou nas paradas e rádios de todo o país.\nCom mais de 50 anos de carreira\, cinco livros lançados\, canções icônicas e um Latin GRAMMY no currículo\, Lobão segue atual e relevante. Transita entre grandes festivais e apresentações intimistas em teatros. Em 2025\, está na estrada com seu Power Trio feroz\, entregando um setlist de tirar o fôlego e reafirmando sua essência artística. \nSujeita a viradas de lotes sem aviso prévio. \nSERVIÇO\nData 📅: 13/03/2026\nHorário: 21h00\nLocal: Grande Teatro Cemig Palácio das Artes\nEndereço 📍: Av. Afonso Pena\, 1537 – Centro – Belo Horizonte/MG\nAbertura da Casa: 1h antes do ínico do evento\nClassificação etária 🚫: Livre. Menores de 14 anos devem entrar acompanhados dos pais e/ou responsáveis legais.\n🎫 A Eventim não se responsabiliza por compras efetuadas em canais não oficiais. \nBILHETERIA OFICIAL – SEM COBRANÇA DE TAXA DE CONVENIÊNCIA\nBilheteria Palácio das Artes\nAv. Afonso Pena\, 1537\nHorário de funcionamento: Segunda a Sábado: 12h às 21h\nDomingo: 17h às 20h \nPONTO DE VENDA – SUJEITO À COBRANÇA DE TAXA DE SERVIÇO\nBILHETERIAS EVENTIM\nRua Alagoas\, 1314 (Funcionários)\, Belo Horizonte\, MG\n(*) Funcionamento: segunda à sexta\, das 10h00 às 19h00.
URL:https://tvbh.tv/evento/lobao-powertrio/
LOCATION:Palácio das Artes\, Av. Afonso Pena\, 1537\, Belo Horizonte\, Minas Gerais
CATEGORIES:Show
ATTACH;FMTTYPE=image/png:https://tvbh.tv/wp-content/uploads/2025/12/ag_lobaopowrtrio.png
END:VEVENT
END:VCALENDAR