BEGIN:VCALENDAR
VERSION:2.0
PRODID:-//TVBH.TV - ECPv6.15.20//NONSGML v1.0//EN
CALSCALE:GREGORIAN
METHOD:PUBLISH
X-ORIGINAL-URL:https://tvbh.tv
X-WR-CALDESC:Eventos para TVBH.TV
REFRESH-INTERVAL;VALUE=DURATION:PT1H
X-Robots-Tag:noindex
X-PUBLISHED-TTL:PT1H
BEGIN:VTIMEZONE
TZID:America/Sao_Paulo
BEGIN:STANDARD
TZOFFSETFROM:-0300
TZOFFSETTO:-0300
TZNAME:-03
DTSTART:20250101T000000
END:STANDARD
END:VTIMEZONE
BEGIN:VEVENT
DTSTART;TZID=America/Sao_Paulo:20260321T210000
DTEND;TZID=America/Sao_Paulo:20260322T210000
DTSTAMP:20260423T165243
CREATED:20260115T144101Z
LAST-MODIFIED:20260115T144101Z
UID:2245-1774126800-1774213200@tvbh.tv
SUMMARY:Fagner - Muito Amor
DESCRIPTION:Os fãs mineiros de Fagner têm um encontro marcado com o cantor em BH\, nos dias 21 e 22 de março: é a nova turnê do show inédito “MUITO AMOR”\, que ele apresenta em duas noites no Palácio das Artes.
URL:https://tvbh.tv/evento/fagner-muito-amor/
LOCATION:Palácio das Artes\, Av. Afonso Pena\, 1537\, Belo Horizonte\, Minas Gerais
CATEGORIES:Show
ATTACH;FMTTYPE=image/jpeg:https://tvbh.tv/wp-content/uploads/2026/01/ag_fagner.jpg
END:VEVENT
END:VCALENDAR