BEGIN:VCALENDAR
VERSION:2.0
PRODID:-//TVBH.TV - ECPv6.15.20//NONSGML v1.0//EN
CALSCALE:GREGORIAN
METHOD:PUBLISH
X-ORIGINAL-URL:https://tvbh.tv
X-WR-CALDESC:Eventos para TVBH.TV
REFRESH-INTERVAL;VALUE=DURATION:PT1H
X-Robots-Tag:noindex
X-PUBLISHED-TTL:PT1H
BEGIN:VTIMEZONE
TZID:America/Sao_Paulo
BEGIN:STANDARD
TZOFFSETFROM:-0300
TZOFFSETTO:-0300
TZNAME:-03
DTSTART:20250101T000000
END:STANDARD
END:VTIMEZONE
BEGIN:VEVENT
DTSTART;TZID=America/Sao_Paulo:20260501T203000
DTEND;TZID=America/Sao_Paulo:20260502T220000
DTSTAMP:20260423T165222
CREATED:20260327T155823Z
LAST-MODIFIED:20260327T160122Z
UID:3069-1777667400-1777759200@tvbh.tv
SUMMARY:Ballet Jovem - Itinerário\, Mi Corazón e Notório
DESCRIPTION:BALLET JOVEM APRESENTA: ITINERÁRIO\, MI CORAZÓN E NOTÓRIO \nBallet Jovem é um projeto que acolhe jovens bailarinos de diversas regiões do país.\nMovidos pelo desejo de se tornarem profissionais\, eles passam a se dedicar diariamente às atividades de formação. O principal propósito é transformar a realidade desses jovens\, dando suporte e incentivo para a aquisição de uma maior autonomia não só como artistas\, mas como cidadãos. O planejamento anual de atividades oferece uma diversidade de linguagens para que os integrantes possam experimentar várias possibilidades. A meta é que eles consigam se identificar e se conectar e\, assim\, escolher os caminhos que desejam trilhar na dança. Através de trabalhos criados por\ncoreógrafos renomados\, os bailarinos têm a oportunidade de se apresentar em palcos pelo Brasil e também no exterior\, vivenciando essa experiência tão fundamental para o amadurecimento do artista cênico. Sempre com foco em seu principal objetivo\, que é a inserção de jovens no mercado de trabalho\, o Ballet Jovem já transformou a vida de diversos artistas desde sua criação\, em 2007. Mais de 50 integrantes ingressaram em companhias profissionais e muitos outros são professores de dança\, multiplicando o conhecimento adquirido. \nA estreia do Ballet Jovem Minas Gerais para 2026 será composta por três trabalhos de linguagem e conceitos únicos. Abrindo a noite\, teremos Itinerário de Filipe Bruschi\, uma partitura cênica que vai da pressa impessoal ao impulso de liberdade do indivíduo ao cruzar a cidade em seu Itinerário. A estreia da noite\, Mi Corazón de Fred Veiga\, é livremente inspirada na obra cinematográfica de Pedro Almodóvar e mostra um olhar para uma relação longeva e a construção subjetiva da vida à dois. Fechando a noite\, Notório de Alessandro Pereira destaca a força perceptível do indivíduo que está presente e se faz notável. \nFICHA TÉCNICA \nElenco: Clara Belasque\, Clara Lins\, Danielle Cirino\, Dion D.\, Emmanuella Mello\, Gabi Salles\, Gabriella Cobucci\, Geni Beatriz\, Guilherme Gomes\, Heloísa França\, Heloisa Simões\, Isaac Rosa\, Isis Costa\, Jéssica Castelo Branco\, Jéssica Maria Barros\, Júlia Dias\, Lara Nóbrega\, Laura Luz\, Lívia Dumont\, Lívia Lanna\, Liz Nayra\, Luiza Ornelas\, Maria Regis\, Marina Alves Facundo\, Marina Soares\, Nalu Bastos\, Nana Amêndola\, Natália Campos\, Naya Aurora\, Patricia Cruz\, Renata Braga\, Sol Magalhães\, Tamires Dantas\, Thais Soares\, Violeta Guimarães.\nDireção Geral e Artística: Andrea Maia.\nIluminação: Juliano Ventura Assistência.\nEnsaios: Guilherme Gomes e Mirelli Soares.\nProfessores: Elton de Souza\, Guilherme Gomes\, Miriam Tomich\, Renata Araújo\, Tiago Camargo.\nCoordenação de Planejamento e Projetos: Tiça Pinheiro.\nProdução: Geni Beatriz.\nAssistência de Produção: Dion D.\nDesign Gráfico: Naya Aurora.\nAssessora jurídica e financeira: Diana Gebrim.\nContabilidade: Mascarenhas Assessoria Contábil. \nSERVIÇO \nBALLET JOVEM APRESENTA: ITINERÁRIO\, MI CORAZÓN E NOTÓRIO\nDia 01 e 02 de maio de 2026\, sexta e sábado\, às 20:30 horas.\nIngressos: R$ 20\,00 inteira / R$ 10\,00 meia\nClassificação: Livre\nDuração: 1h30min\nTeatro do Centro Cultural Unimed-BH Minas\nRua da Bahia 2244 – Lourdes\nVendas: Sympla ou bilheteria do teatro\nBilheteria: (031) 3516.1360
URL:https://tvbh.tv/evento/ballet-jovem-itinerario-mi-corazon-e-notorio/
LOCATION:Centro Cultural Unimed-BH Minas\, R. da Bahia\, 2.244 - Lourdes\, Belo Horizonte\, Minas Gerais
CATEGORIES:Dança
ATTACH;FMTTYPE=image/jpeg:https://tvbh.tv/wp-content/uploads/2026/03/ac_balletjovem.jpg
END:VEVENT
END:VCALENDAR