BEGIN:VCALENDAR
VERSION:2.0
PRODID:-//TVBH.TV - ECPv6.15.20//NONSGML v1.0//EN
CALSCALE:GREGORIAN
METHOD:PUBLISH
X-WR-CALNAME:TVBH.TV
X-ORIGINAL-URL:https://tvbh.tv
X-WR-CALDESC:Eventos para TVBH.TV
REFRESH-INTERVAL;VALUE=DURATION:PT1H
X-Robots-Tag:noindex
X-PUBLISHED-TTL:PT1H
BEGIN:VTIMEZONE
TZID:America/Sao_Paulo
BEGIN:STANDARD
TZOFFSETFROM:-0300
TZOFFSETTO:-0300
TZNAME:-03
DTSTART:20250101T000000
END:STANDARD
END:VTIMEZONE
BEGIN:VEVENT
DTSTART;TZID=America/Sao_Paulo:20260515T080000
DTEND;TZID=America/Sao_Paulo:20260517T170000
DTSTAMP:20260423T165010
CREATED:20251127T175336Z
LAST-MODIFIED:20251127T175336Z
UID:1723-1778832000-1779037200@tvbh.tv
SUMMARY:Maratona Oficial de Belo Horizonte
DESCRIPTION:A Maratona Oficial de Belo Horizonte é um convite para viver a cidade no seu próprio ritmo. Com percursos que atravessam diferentes regiões da capital mineira\, cada trecho revela um novo olhar sobre BH: do movimento intenso do centro à tranquilidade dos bairros e parques\, passando por cenários menos explorados que mostram a essência da cidade.\n\nInspirada nos moldes das maiores maratonas do mundo\, a MOBH foi criada com um foco muito claro: a experiência do atleta. Desde a retirada do kit na Vila da Maratona\, no Parque Municipal\, até o pós-prova\, tudo é pensado para que corredores de elite e amadores sintam a força de um evento que valoriza a performance sem abrir mão da celebração coletiva.\n\nA Praça da Estação\, ponto histórico e simbólico da cidade\, será o palco de largada e chegada. Seja para completar os 42 km\, sentir a velocidade nos 5 km da Corrida Central ou encarar o Desafio Pão de Queijo com Doce de Leite\, prepare o coração e as pernas para uma maratona feita sob medida para quem corre\, mas também para quem ama viver BH em sua máxima intensidade.
URL:https://tvbh.tv/evento/maratona-oficial-de-belo-horizonte/
LOCATION:Praça Rui Barbosa (Pça. da Estação)\, Av. dos Andradas\, 337 - Centro\, Belo Horizonte\, Minas Gerais\, 30120-010
CATEGORIES:Esporte
ATTACH;FMTTYPE=image/png:https://tvbh.tv/wp-content/uploads/2025/11/ag_maratonabh.png
END:VEVENT
BEGIN:VEVENT
DTSTART;TZID=America/Sao_Paulo:20260516T200000
DTEND;TZID=America/Sao_Paulo:20260517T190000
DTSTAMP:20260423T165010
CREATED:20260317T113524Z
LAST-MODIFIED:20260317T113524Z
UID:2919-1778961600-1779044400@tvbh.tv
SUMMARY:Três Mulheres Altas
DESCRIPTION:Em cena\, as atrizes interpretam três mulheres\, batizadas pelo autor apenas pelas letras A\, B e C. A mais velha (Ana Rosa)\, que já passou dos 90\, está doente e embaralha memórias e acontecimentos\, enquanto repassa a sua vida para a personagem B (Helena Ranaldi)\, apresentada como uma espécie de cuidadora ou dama de companhia. A mais jovem\, C (Fernanda Nobre)\, é uma advogada responsável por administrar os bens e recursos da idosa\, que não consegue mais lidar com as questões financeiras e burocráticas. \n  \nCapacidade: 1.119 Lugares \nDuração: 100 Minutos \nClassificação: 12 Anos.
URL:https://tvbh.tv/evento/tres-mulheres-altas/
LOCATION:Sesc Palladium\, R. Rio de Janeiro\, 1.046\, Belo Horizonte\, Minas Gerais
CATEGORIES:Teatro
ATTACH;FMTTYPE=image/jpeg:https://tvbh.tv/wp-content/uploads/2026/03/ac_3mulheresaltas.jpg
END:VEVENT
END:VCALENDAR