BEGIN:VCALENDAR
VERSION:2.0
PRODID:-//TVBH.TV - ECPv6.15.20//NONSGML v1.0//EN
CALSCALE:GREGORIAN
METHOD:PUBLISH
X-ORIGINAL-URL:https://tvbh.tv
X-WR-CALDESC:Eventos para TVBH.TV
REFRESH-INTERVAL;VALUE=DURATION:PT1H
X-Robots-Tag:noindex
X-PUBLISHED-TTL:PT1H
BEGIN:VTIMEZONE
TZID:America/Sao_Paulo
BEGIN:STANDARD
TZOFFSETFROM:-0300
TZOFFSETTO:-0300
TZNAME:-03
DTSTART:20250101T000000
END:STANDARD
END:VTIMEZONE
BEGIN:VEVENT
DTSTART;TZID=America/Sao_Paulo:20260704T210000
DTEND;TZID=America/Sao_Paulo:20260704T230000
DTSTAMP:20260423T182513
CREATED:20260414T180919Z
LAST-MODIFIED:20260414T180919Z
UID:3256-1783198800-1783206000@tvbh.tv
SUMMARY:Kid Abelha - "Eu Tive Um Sonho"
DESCRIPTION:Apresentação: 04/07/2026 (sábado) \nAbertura dos portões: 16h \nHorário do show: 21h \nLocal: Arena MRV \nEndereço: Rua Cristina Maria de Assis\, 202 – Califórnia\, Belo Horizonte – MG\, 30855-440 \nClassificação: 16 anos. Menores de 05 a 15 anos\, apenas acompanhados dos pais ou responsáveis legais. *Sujeito a alteração por Decisão Judicial. \nBilheteria Oficial – sem taxa de serviço \nLocal: Bilheteria da Esplanada da Arena MRV\nRua Cristina Maria de Assis\, 202 – Califórnia\, Belo Horizonte – MG\, 30855-440 \n13/04 – Venda Geral\n– Atendimento a partir das 11h\n– Entrada na fila até às 17h. Após esse horário\, atenderemos somente quem já estiver na fila.\n– Atendimento sujeito à disponibilidade de ingressos. Ingressos esgotados\, a bilheteria encerra o atendimento. \nA partir de 14/04 – funcionamento regular:\n– Terça a sábado: das 10h às 17h\n– Não abre: segundas-feiras\, feriados\, emendas de feriados\, 1 dia útil anterior a jogos no local\, dias de jogos ou outros eventos. \nImportante\n– Não haverá pré-venda para este evento.\n– Meia-entrada: obrigatório apresentar comprovante na compra e na entrada do evento.\n– App Quentro: baixe antes de vir. Facilita a compra e o acesso ao ingresso digital.
URL:https://tvbh.tv/evento/kid-abelha-eu-tive-um-sonho/
LOCATION:Arena MRV\, R. Cristina Maria de Assis\, 202 - Califórnia\, Belo Horizonte\, Minas Gerais
CATEGORIES:Show
ATTACH;FMTTYPE=image/gif:https://tvbh.tv/wp-content/uploads/2026/04/ac_kidabelha.gif
END:VEVENT
END:VCALENDAR