BEGIN:VCALENDAR
VERSION:2.0
PRODID:-//TVBH.TV - ECPv6.15.20//NONSGML v1.0//EN
CALSCALE:GREGORIAN
METHOD:PUBLISH
X-ORIGINAL-URL:https://tvbh.tv
X-WR-CALDESC:Eventos para TVBH.TV
REFRESH-INTERVAL;VALUE=DURATION:PT1H
X-Robots-Tag:noindex
X-PUBLISHED-TTL:PT1H
BEGIN:VTIMEZONE
TZID:America/Sao_Paulo
BEGIN:STANDARD
TZOFFSETFROM:-0300
TZOFFSETTO:-0300
TZNAME:-03
DTSTART:20250101T000000
END:STANDARD
END:VTIMEZONE
BEGIN:VEVENT
DTSTART;TZID=America/Sao_Paulo:20260724T210000
DTEND;TZID=America/Sao_Paulo:20260725T000000
DTSTAMP:20260423T211039
CREATED:20260224T184502Z
LAST-MODIFIED:20260224T184502Z
UID:2627-1784926800-1784937600@tvbh.tv
SUMMARY:Nazareth - 55 Anos
DESCRIPTION:Nazareth celebra 55 anos de carreira com turnê de clássicos no Brasil em julho de 2026 \nO Nazareth\, um dos grupos mais emblemáticos do rock mundial\, retorna ao Brasil em julho de 2026 para comemorar mais de 55 anos de carreira com a Latin America Hits Tour\, turnê dedicada aos seus maiores sucessos. As datas foram confirmadas pela Top Link Music em suas redes sociais. \nCom uma discografia que ultrapassa 20 álbuns de estúdio\, o Nazareth consolidou-se como um dos grandes nomes do hard rock setentista\, levando sua sonoridade potente e marcante a diferentes gerações. Desde os anos 1970\, a banda conquistou uma legião de fãs em todo o mundo\, especialmente pela intensidade de suas performances ao vivo e pela força de seus riffs e baladas. \nNo repertório da turnê\, o público brasileiro pode esperar um desfile de clássicos que marcaram a história do rock\, como “Love Hurts” (Hair of the Dog\, 1975)\, uma das baladas mais executadas das últimas décadas\, além de hinos como “Hair of the Dog”\, “Razamanaz” (1973)\, “Dream On” (1982)\, “This Flight Tonight” (1973)\, “Broken Down Angel”\, “Shanghai’d in Shanghai”\, “Expect No Mercy”\, “Holiday” (1980) e “Miss Misery”. Canções que ultrapassaram gerações e ajudaram a definir os rumos do hard rock. \nA trajetória do Nazareth também é marcada pela diversidade sonora. Em seus álbuns\, a banda navegou entre o peso característico do hard rock\, influências de blues e soul\, além de elementos de folk. Esse ecletismo ampliou seu alcance e garantiu presença constante nas paradas internacionais durante décadas\, com milhões de cópias vendidas e discos que permanecem como referência até hoje. \nNo Brasil\, a relação dos fãs com o Nazareth é antiga. O grupo já se apresentou no país em outras ocasiões\, sempre atraindo plateias apaixonadas. Agora\, a Latin America Hits Tour 2026 promete ser uma oportunidade única de reviver essa experiência e celebrar mais de cinco décadas de música que ajudaram a moldar a identidade do rock mundial. \nBelo Horizonte \nApresentação: 24/07/2026 (sexta-feira) \nAbertura dos portões: 20h \nHorário do show: 21h \nLocal: Mister Rock \nEndereço: Av. Teresa Cristina\, 295 – Prado\, Belo Horizonte \nClassificação: 18 anos. Menores de 18 anos\, apenas acompanhados dos pais ou responsáveis legais. *Sujeito a alteração por Decisão Judicial.
URL:https://tvbh.tv/evento/nazareth-55-anos/
LOCATION:Mister Rock\, Av. Teresa Cristina\, 295 - Prado\, Belo Horizonte\, Minas Gerais
CATEGORIES:Show
ATTACH;FMTTYPE=image/png:https://tvbh.tv/wp-content/uploads/2026/02/ac_nazareh.png
END:VEVENT
END:VCALENDAR