BEGIN:VCALENDAR
VERSION:2.0
PRODID:-//TVBH.TV - ECPv6.15.20//NONSGML v1.0//EN
CALSCALE:GREGORIAN
METHOD:PUBLISH
X-ORIGINAL-URL:https://tvbh.tv
X-WR-CALDESC:Eventos para TVBH.TV
REFRESH-INTERVAL;VALUE=DURATION:PT1H
X-Robots-Tag:noindex
X-PUBLISHED-TTL:PT1H
BEGIN:VTIMEZONE
TZID:America/Sao_Paulo
BEGIN:STANDARD
TZOFFSETFROM:-0300
TZOFFSETTO:-0300
TZNAME:-03
DTSTART:20250101T000000
END:STANDARD
END:VTIMEZONE
BEGIN:VEVENT
DTSTART;TZID=America/Sao_Paulo:20260131T120000
DTEND;TZID=America/Sao_Paulo:20260131T220000
DTSTAMP:20260423T230342
CREATED:20260109T155358Z
LAST-MODIFIED:20260109T155358Z
UID:2196-1769860800-1769896800@tvbh.tv
SUMMARY:Festival da Flor - Paula Toller e Nando Reis
DESCRIPTION:
URL:https://tvbh.tv/evento/festival-da-flor-paula-toller-e-nando-reis/
LOCATION:Praça dos 4 Elementos\, Praça dos Quatro Elementos - Jardim Canadá\, Nova Lima\, Minas Gerais
CATEGORIES:Festival
ATTACH;FMTTYPE=image/png:https://tvbh.tv/wp-content/uploads/2026/01/ag_festflor.png
END:VEVENT
END:VCALENDAR