BEGIN:VCALENDAR
VERSION:2.0
PRODID:-//TVBH.TV - ECPv6.15.20//NONSGML v1.0//EN
CALSCALE:GREGORIAN
METHOD:PUBLISH
X-ORIGINAL-URL:https://tvbh.tv
X-WR-CALDESC:Eventos para TVBH.TV
REFRESH-INTERVAL;VALUE=DURATION:PT1H
X-Robots-Tag:noindex
X-PUBLISHED-TTL:PT1H
BEGIN:VTIMEZONE
TZID:America/Sao_Paulo
BEGIN:STANDARD
TZOFFSETFROM:-0300
TZOFFSETTO:-0300
TZNAME:-03
DTSTART:20250101T000000
END:STANDARD
END:VTIMEZONE
BEGIN:VEVENT
DTSTART;TZID=America/Sao_Paulo:20260425T140000
DTEND;TZID=America/Sao_Paulo:20260425T230000
DTSTAMP:20260423T152707
CREATED:20260312T180706Z
LAST-MODIFIED:20260312T180706Z
UID:2841-1777125600-1777158000@tvbh.tv
SUMMARY:Festival Só Amor
DESCRIPTION:FESTIVAL SÓ AMOR: EXISTE AMOR EM BH!\n\nAmor\, música\, esporte e conexão com a natureza! O Festival com a melhor vibe da cidade está de volta para mais uma edição PESADA!\n\nLine-Up:\n– CRIOLO\n– MANEVA\n– CYNTHIA LUZ + PARTICIPAÇÕES\n\nE muito mais SUSTENTABILIDADE\, COOPERAÇÃO\, PINTURA AO VIVO\, MAPPING\, ATRAÇÕES LOCAIS E DJS!!\n\n\nSetores:\n– Pista\n– Open Bar Só Amor: Cerveja\, Vodka\, Gin\, Energético\, Refri e Água\n\nARENA SÓ AMOR – BEAGALTA – 1º CAMPEONATO NACIONAL DE ALTINHA EM BH!\n\nDia 25 de abril estaremos unidos mais uma vez para celebrar esse encontro de gigantes no festival que está chegando na sua 3ª edição e mostrando que veio pra ficar!\n\n\nBora viver o festival que é SÓ AMOR!
URL:https://tvbh.tv/evento/festival-so-amor/
LOCATION:Parque das Mangabeiras\, Av. José do Patrocínio Pontes\, 580 - Mangabeiras\, Belo Horizonte\, Minas Gerais
CATEGORIES:Festival
ATTACH;FMTTYPE=image/jpeg:https://tvbh.tv/wp-content/uploads/2026/03/ac_soamor.jpg
END:VEVENT
END:VCALENDAR