BEGIN:VCALENDAR
VERSION:2.0
PRODID:-//TVBH.TV - ECPv6.15.20//NONSGML v1.0//EN
CALSCALE:GREGORIAN
METHOD:PUBLISH
X-WR-CALNAME:TVBH.TV
X-ORIGINAL-URL:https://tvbh.tv
X-WR-CALDESC:Eventos para TVBH.TV
REFRESH-INTERVAL;VALUE=DURATION:PT1H
X-Robots-Tag:noindex
X-PUBLISHED-TTL:PT1H
BEGIN:VTIMEZONE
TZID:America/Sao_Paulo
BEGIN:STANDARD
TZOFFSETFROM:-0300
TZOFFSETTO:-0300
TZNAME:-03
DTSTART:20250101T000000
END:STANDARD
END:VTIMEZONE
BEGIN:VEVENT
DTSTART;TZID=America/Sao_Paulo:20260418T210000
DTEND;TZID=America/Sao_Paulo:20260418T230000
DTSTAMP:20260423T165811
CREATED:20260323T124239Z
LAST-MODIFIED:20260323T124239Z
UID:2965-1776546000-1776553200@tvbh.tv
SUMMARY:Guilherme Arantes - 50 Anos-Luz
DESCRIPTION:Guilherme Arantes celebra 50 anos de carreira com a turnê “50 Anos-Luz”\, no BeFly Minascentro\, no dia 18 de abril. \nUm dos artistas mais consagrados da música nacional\, Guilherme Arantes se prepara para uma celebração inesquecível: a turnê “50 Anos-Luz”\, que marcará os seus 50 anos de carreira. O cantor\, compositor e instrumentista paulistano\, e seu empresário Anderson Carlos\, acabam de assinar contrato com a Music On Events — promotora responsável pela turnê\, que vai percorrer os principais palcos e arenas do Brasil — e promete ser um grandioso espetáculo. O início das apresentações está marcado para março de 2026\, começando pela capital paulista\, no Espaço Unimed. \nGuilherme Arantes desembarca em BH para a turnê especial “50 Anos-Luz”\, no dia 18 de abril de 2026\, sábado\, no Befly Minascentro. \nOs ingressos estão disponíveis nas bilheterias do teatro ou no site www.sympla.com.br. \nDono de uma trajetória que atravessa gerações\, o cantor e compositor revisitará seus maiores clássicos\, entre eles “Amanhã”\, “Planeta Água”\, “Um Dia\, Um Adeus” e “Cheia de Charme”\, em apresentações que unem tecnologia\, emoção e a intensidade de um artista que transformou sua música em trilha sonora da vida de milhões de brasileiros. \nCom mais de 30 composições eternizadas em novelas e interpretadas por ícones como Elis Regina\, Maria Bethânia\, Gal Costa\, Caetano Veloso\, Roberto Carlos\, Zezé Di Camargo & Luciano\, Anavitória e tantos outros\, Guilherme Arantes reafirma seu lugar como patrimônio da música nacional e cronista da alma brasileira. \nAlém da turnê\, o artista prepara o lançamento de um álbum inédito — previsto para o primeiro trimestre de 2026 — que chega para consolidar sua vitalidade artística aos 72 anos de idade. \nRefletindo sobre sua trajetória\, Guilherme relembra o auge do pop rock nacional nos anos 80\, período em que se consagrou como um dos nomes mais populares e criativos da cena musical e celebra a oportunidade de reencontrar seu público em uma fase de renovação e celebração. \n“São 50 anos de aprendizado\, do prazer insubstituível de fazer música. E completar uma data assim\, redonda\, é ter vivido esse exercício de sobrevivência ao tempo\, às camadas de modas e tecnologias. Por isso\, eu comemoro com um álbum cheio de inéditas e uma agenda generosa\, para brindar o público com o mesmo prazer que me trouxe até aqui.” \nCom mais de 140 apresentações anuais\, sempre embaladas por plateias que cantam em coro seus sucessos\, Guilherme Arantes prova que sua música é atemporal e segue conquistando novas gerações. \nEm 2026\, a turnê “50 Anos-Luz” promete ser um marco nessa linda história: um espetáculo de memória\, emoção e intensidade\, celebrando meio século de história de um artista que é patrimônio da música brasileira. \nSERVIÇO \nGUILHERME ARANTES \n🗓️ Data do show: 18 de abril de 2026\n⏱️ Abertura da casa: 20h / Início do Show: 21h\n📍 Local: BeFly Minascentro\n📌 Endereço: Av. Augusto de Lima\, 785 – Centro\, Belo Horizonte – MG\n🔞 Classificação etária: 18 anos (é proibida a entrada de menores de 18 anos desacompanhados dos pais ou responsáveis legais).\nIngressos:\n• Setor I: a partir de R$ 215\,00 (meia) / R$ 225\,00 (social)\n• Setor II: a partir de R$ 145\,00 (meia) / R$ 195\,00 (social)\n• Setor III: a partir de R$ 95\,00 (meia) / R$ 145\,00 (social) \nMais informações: (31) 97222-2424\nRealização: Ímpar Shows e MusicOn
URL:https://tvbh.tv/evento/guilherme-arantes-50-anos-luz/
LOCATION:BeFly Minascentro\, Av. Augusto de Lima\, 785 - Centro\, Belo Horizonte\, Minas Gerais
CATEGORIES:Show
ATTACH;FMTTYPE=image/jpeg:https://tvbh.tv/wp-content/uploads/2026/03/ac-ga50anosluz.jpg
END:VEVENT
END:VCALENDAR