BEGIN:VCALENDAR
VERSION:2.0
PRODID:-//TVBH.TV - ECPv6.15.20//NONSGML v1.0//EN
CALSCALE:GREGORIAN
METHOD:PUBLISH
X-WR-CALNAME:TVBH.TV
X-ORIGINAL-URL:https://tvbh.tv
X-WR-CALDESC:Eventos para TVBH.TV
REFRESH-INTERVAL;VALUE=DURATION:PT1H
X-Robots-Tag:noindex
X-PUBLISHED-TTL:PT1H
BEGIN:VTIMEZONE
TZID:America/Sao_Paulo
BEGIN:STANDARD
TZOFFSETFROM:-0300
TZOFFSETTO:-0300
TZNAME:-03
DTSTART:20250101T000000
END:STANDARD
END:VTIMEZONE
BEGIN:VEVENT
DTSTART;TZID=America/Sao_Paulo:20260424T213000
DTEND;TZID=America/Sao_Paulo:20260424T233000
DTSTAMP:20260423T201534
CREATED:20260423T180832Z
LAST-MODIFIED:20260423T180832Z
UID:3318-1777066200-1777073400@tvbh.tv
SUMMARY:Supertramp Experience
DESCRIPTION:Após o grande sucesso na primeira turnê e os incontáveis pedidos do publico\, a banda SUPERTRAMP Experience estará de volta ao Brasil em abril e maio de 2026 e a banda tem apenas um objetivo: transmitir o som\, a energia e a emoção o mais fielmente possível da lendária banda inglesa Supertramp.\nA banda europeia é considerada pelo próprio Roger Hodgson\, o melhor tributo ao Supertramp do mundo. Formada por Antoine Oheix (vocal e teclados)\, Alan Valley (guitarra\, teclados e backing vocal)\, David Martin (saxofone\, teclado\, coros)\, Lucas Fleurance (baixo\, coros)\, Stéphane Glory (bateria)\, cinco músicos apaixonados pelo Supertramp\, que se apresentam nos palcos da Europa emocionando o público com o som dos lendários sucessos de uma das maiores bandas de todos os tempos.\nSUPERTRAMP Experience oferece um espetáculo de quase 2 horas\, apresentando os grandes sucessos do Supertramp\, o lendário grupo liderado pela dupla Roger Hodgson/Rick Davies.\nCom sucessos como: The Logical Song\, Dreamer\, School\, Goodbye Stranger\, Fool’s Overture\, Crazy\, Hide in your Shell\, entre outros\, The SUPERTRAMP Experience é simplesmente o melhor tributo ao Supertramp do mundo.\nFormação do grupo:\nAntoine Oheix (teclado\, vocal)\nFã do Supertramp desde a adolescência\, fundou o grupo em 2011. A sua voz com amplitude alargada permite-lhe estar avantajado tanto nos registos de Roger Hodgson como de Rick Davies. Ele é a referência nos arranjos e na sonoridade do grupo.\nAlice Valle (guitarra\, teclados\, backing vocals)\nUm grande musico que toca notavelmente em vários estilos\, mas tem no Supertramp sua maior paixão\nDavid Martin (saxofone\, teclados\, coros)\nUm verdadeiro instrumentista\, seu perfeito domínio do saxofone e sua longa experiência fazem dele o John Helliwell do grupo.\nLucas Fleurance (baixo\, backing vocals)\nBaixista\, baterista e compositor\, é um grande admirador de Paul McCartney e Supertramp. Ingressou naturalmente no grupo em 2013.\nStéphane Glory (bateria)\nJá trabalhou com vários artistas franceses e estrangeiros e é considerado um dos maiores bateristas da França \nSERVIÇO \nData: 24 de abril \nAbertura dos portões: 20:30\nHorário: 21:30\n\nLocal: Grande Teatro BeFly Minascentro \nEndereço: Avenida Augusto de Lima\, 785\, Centro. Belo Horizonte/MG. \nClassificação etária: 18 anos (menores deverão estar acompanhados dos pais ou responsável legal).
URL:https://tvbh.tv/evento/supertramp-experience/
LOCATION:BeFly Minascentro\, Av. Augusto de Lima\, 785 - Centro\, Belo Horizonte\, Minas Gerais
CATEGORIES:Show
ATTACH;FMTTYPE=image/jpeg:https://tvbh.tv/wp-content/uploads/2026/04/cult_supertramp.jpg
END:VEVENT
END:VCALENDAR