BEGIN:VCALENDAR
VERSION:2.0
PRODID:-//TVBH.TV - ECPv6.15.20//NONSGML v1.0//EN
CALSCALE:GREGORIAN
METHOD:PUBLISH
X-WR-CALNAME:TVBH.TV
X-ORIGINAL-URL:https://tvbh.tv
X-WR-CALDESC:Eventos para TVBH.TV
REFRESH-INTERVAL;VALUE=DURATION:PT1H
X-Robots-Tag:noindex
X-PUBLISHED-TTL:PT1H
BEGIN:VTIMEZONE
TZID:America/Sao_Paulo
BEGIN:STANDARD
TZOFFSETFROM:-0300
TZOFFSETTO:-0300
TZNAME:-03
DTSTART:20250101T000000
END:STANDARD
END:VTIMEZONE
BEGIN:VEVENT
DTSTART;TZID=America/Sao_Paulo:20260425T210000
DTEND;TZID=America/Sao_Paulo:20260425T230000
DTSTAMP:20260423T184240
CREATED:20251216T194059Z
LAST-MODIFIED:20251216T194059Z
UID:2075-1777150800-1777158000@tvbh.tv
SUMMARY:Titãs - Cabeça Dinossauro 40 Anos
DESCRIPTION:Data 📅: 25/04/2026\nHorário: 21h\nAbertura dos Portões: 19h\nLocal: BEFLY HALL\nEndereço 📍: Av. Nossa Sra. do Carmo\, 230 – Savassi\, Belo Horizonte – MG\, 30330-000\nClassificação etária 🚫: Entrada e permanência de crianças/adolescentes de 05 a 15 anos de idade\, acompanhados dos pais ou responsáveis\, e de 16 a 17 anos\, desacompanhados dos pais ou responsáveis legais. \nCADEIRA PRATA L1 R$62\,50 (meia) | R$87\,50 (social) | R$106\,25 (cliente Itaú) | R$125\,00 (inteira)\nCADEIRA PRATA L2 R$82\,50 (meia) | R$115\,50 (social) | R$140\,25 (cliente Itaú) | R$165\,00 (inteira)\nCADEIRA PRATA L3 R$102\,50 (meia) | R$143\,50 (social) | R$174\,25 (cliente Itaú) | R$205\,00 (inteira)\nCADEIRA OURO L1 R$87\,50 (meia) | R$122\,50 (social) | R$148\,75 (cliente Itaú) | R$175\,00 (inteira)\nCADEIRA OURO L2 R$107\,50 (meia) | R$146\,25 (social) | R$182\,75 (cliente Itaú) | R$215\,00 (inteira)\nCADEIRA OURO L3 R$127\,50 (meia) | R$178\,50 (social) | R$216\,75 (cliente Itaú) | R$255\,00 (inteira)\nFRONTSTAGE PISTA L1 R$97\,50 (meia) | R$136\,50 (social) | R$165\,75 (cliente Itaú) | R$195\,00 (inteira)\nFRONTSTAGE PISTA L2 R$117\,50 (meia) | R$164\,50 (social) | R$199\,75 (cliente Itaú) | R$235\,00 (inteira)\nFRONTSTAGE PISTA L3 R$137\,50 (meia) | R$192\,50 (social) | R$233\,75 (cliente Itaú) | R$275\,00 (inteira) \nPré-venda Itaú: 16/12 às 10h no site e 11h na Bilheteria\nVenda Geral: 18/12 às 12h no site e 13h na bilheteria \nPRÉ-VENDA ITAÚ\nLimite de Ingressos: 4 | Limite de Meia: 2\nParcelamento até 3x sem juros no site e bilheteria\nIngresso Social: valor reduzido\, com a doação de 1kg de alimento não perecível\, disponível para qualquer pessoa.\n*Desconto Itaú sujeito a disponibilidade\n\nVENDA GERAL\nLimite de Ingressos: 6 | Limite de Meia: 2\nParcelamento em 10x com juros no site | Não teremos parcelamento na bilheteria.\nIngresso Social: valor reduzido\, com a doação de 1kg de alimento não perecível\, disponível para qualquer pessoa.\n\nBILHETERIA OFICIAL\nLOJA EVENTIM – BH\nEndereço: Shopping 5ª Avenida – Rua Alagoas\, 1314 – Belo Horizonte\nFuncionamento: Segunda a sexta-feira das 10h às 19h | Sábados\, Domingos e feriados não abre
URL:https://tvbh.tv/evento/titas-cabeca-dinossauro-40-anos/
LOCATION:BeFly Hall\, Av. Nossa Senhora do Carmo\, 230 - Savassi\, Belo Horizonte\, Minas Gerais
CATEGORIES:Show
ATTACH;FMTTYPE=image/png:https://tvbh.tv/wp-content/uploads/2025/12/ag_cabdin40.png
END:VEVENT
END:VCALENDAR