BEGIN:VCALENDAR
VERSION:2.0
PRODID:-//TVBH.TV - ECPv6.15.20//NONSGML v1.0//EN
CALSCALE:GREGORIAN
METHOD:PUBLISH
X-WR-CALNAME:TVBH.TV
X-ORIGINAL-URL:https://tvbh.tv
X-WR-CALDESC:Eventos para TVBH.TV
REFRESH-INTERVAL;VALUE=DURATION:PT1H
X-Robots-Tag:noindex
X-PUBLISHED-TTL:PT1H
BEGIN:VTIMEZONE
TZID:America/Sao_Paulo
BEGIN:STANDARD
TZOFFSETFROM:-0300
TZOFFSETTO:-0300
TZNAME:-03
DTSTART:20250101T000000
END:STANDARD
END:VTIMEZONE
BEGIN:VEVENT
DTSTART;TZID=America/Sao_Paulo:20260307T210000
DTEND;TZID=America/Sao_Paulo:20260307T230000
DTSTAMP:20260423T151758
CREATED:20251216T193628Z
LAST-MODIFIED:20251216T193628Z
UID:2070-1772917200-1772924400@tvbh.tv
SUMMARY:Flávio Venturini - Minha História
DESCRIPTION:Devido ao grande sucesso\, Flávio Venturini retorna ao palco do Palácio das Artes com a turnê “Minha História”\, no dia 7 de março de 2026 \nNo repertório\, grandes sucessos de sua trajetória musical compõem um espetáculo emocionante\, que revisita momentos icônicos de sua carreira \nO show “Minha História”\, de Flávio Venturini\, marca o início de uma nova fase em sua trajetória musical. O espetáculo celebra 50 anos de carreira e apresenta um roteiro que revisita momentos importantes de sua história\, com novos arranjos\, em única apresentação no dia 7 de março de 2026\, às 21h\, no Palácio das Artes.\nOs ingressos estão disponíveis no site Eventim e nas bilheterias do Palácio das Artes.\nO espetáculo conta com uma banda formada por grandes músicos e uma equipe técnica de excelência nas áreas de som e iluminação. Paralelamente\, Flávio grava um novo álbum com participações especiais de grandes artistas da música brasileira\, que será lançado junto à turnê nacional.\nNo repertório\, estão sucessos que marcaram sua carreira\, como “Todo Azul do Mar”\, “Noites com Sol”\, “Nascente”\, “Espanhola”\, “Céu de Santo Amaro”\, “Linda Juventude”\, “Mais Uma Vez”\, “Clube da Esquina 2”\, “Planeta Sonho” e “Besame”.\n“Relembrando essa trajetória\, recebi um convite especial do empresário Steve Altit (Top Cat Produções)\, reconhecido pelo trabalho ao lado de artistas como Ivan Lins\, João Bosco\, Zélia Duncan\, Ed Motta\, Lobão\, Blitz e\, mais recentemente\, pelo retorno de Ritchie aos palcos. O convite era para gravar um álbum reinterpretando meus maiores sucessos\, com a promessa de uma grande turnê nacional. Aceitei de imediato\, e agora o disco está pronto! O projeto evoluiu para algo ainda mais grandioso\, com a participação de alguns dos maiores artistas brasileiros.\nEste é\, sem dúvida\, um dos momentos mais importantes da minha carreira. Produzido por Torcuato Mariano — responsável por alguns dos meus melhores trabalhos — o disco conta com uma banda excepcional e participações de Djavan\, Ivete Sangalo\, Guilherme Arantes\, Vanessa da Mata\, Jota Quest\, Frejat\, Ritchie\, Gloria Groove\, Ana Cañas\, Gabi Melim\, Ney Matogrosso e Roupa Nova.\nComo planejado\, o projeto segue com um grande show\, que tem direção geral de Jorge Espírito Santo\, direção musical de Torcuato Mariano\, direção de arte de Alexandre Arrabal\, iluminação de Césio Lima e coordenação geral de Steve Altit”\, declara Flávio Venturini.\nO empresário Steve Altit\, da Top Cat Produções\, é o responsável pela coordenação geral da turnê “Minha História”. Amplamente reconhecido por trazer grandes estrelas internacionais ao Brasil e gerenciar carreiras de artistas consagrados\, Steve busca criar uma experiência única que celebre\, de forma inesquecível\, os 50 anos de carreira de Flávio Venturini.\nA direção de arte é assinada por Alexandre Arrabal\, designer multipremiado; a direção geral\, por Jorge Espírito Santo\, e a iluminação\, por Césio Lima\, renomado por seu trabalho em grandes espetáculos nacionais e internacionais.\nA direção musical é de Torcuato Mariano\, guitarrista\, compositor e produtor de renome\, conhecido por sua premiada carreira solo e por colaborações com artistas como Gal Costa\, Djavan e Ivan Lins.\nNo palco\, Flávio estará acompanhado por uma banda de altíssimo nível\, garantindo uma apresentação memorável que celebra sua extraordinária trajetória musical. \nFicha Técnica do show Minha História\nMúsicos:\n● Torcuato Mariano (guitarra)\n● Marcelo Mariano (baixo)\n● Sérgio Melo (bateria)\n● Renato Fonseca (teclados)\n● Marcelo Martins (sax e flauta)\n● Backing vocals: Marquinhos “O Sócio” \nEquipe técnica:\n● Bruno Rod (engenheiro de som)\n● Henrique de Paula (técnico de monitor)\n● Taquinho (contra-regra)\n● Jorge Kunta (iluminação)\n● Thiago Jerônimo (operação de LEDs)\n● Felipe Moreira (produtor executivo) \nDireção e coordenação\n● Assessoria de Imprensa – Ana Paula Romeiro\n● Coordenação de Redes Digitais – Wagner Oliva\n● Projeto Iluminação – Césio Lima\n● Direção Musical – Torcuato Mariano e Flávio Venturini\n● Direção de Arte – Alexandre Arrabal\n● Direção Geral – Jorge Espirito Santo\n● Coordenação Geral – Steve Altit\n● Realização – Top Cat Produções Artísticas \nSujeita a viradas de lotes sem aviso prévio. \nSERVIÇO\nData 📅: 07/03/2026\nHorário: 21h00\nLocal: Grande Teatro Cemig Palácio das Artes\nEndereço 📍: Av. Afonso Pena\, 1537 – Centro – Belo Horizonte/MG\nAbertura da Casa: 1h antes do ínico do evento\nClassificação etária 🚫: Livre. Menores de 14 anos devem entrar acompanhados dos pais e/ou responsáveis legais.\n🎫 A Eventim não se responsabiliza por compras efetuadas em canais não oficiais. \nBILHETERIA OFICIAL – SEM COBRANÇA DE TAXA DE CONVENIÊNCIA\nBilheteria Palácio das Artes\nAv. Afonso Pena\, 1537\nHorário de funcionamento: Segunda a Sábado: 12h às 21h\nDomingo: 17h às 20h \nPONTO DE VENDA – SUJEITO À COBRANÇA DE TAXA DE SERVIÇO\nBILHETERIAS EVENTIM\nRua Alagoas\, 1314 (Funcionários)\, Belo Horizonte\, MG\n(*) Funcionamento: segunda à sexta\, das 10h00 às 19h00.
URL:https://tvbh.tv/evento/flavio-venturini-minha-historia/
LOCATION:Palácio das Artes\, Av. Afonso Pena\, 1537\, Belo Horizonte\, Minas Gerais
CATEGORIES:Show
ATTACH;FMTTYPE=image/png:https://tvbh.tv/wp-content/uploads/2025/12/ag_flavioventurini.png
END:VEVENT
BEGIN:VEVENT
DTSTART;TZID=America/Sao_Paulo:20260308T190000
DTEND;TZID=America/Sao_Paulo:20260308T210000
DTSTAMP:20260423T151758
CREATED:20260224T183944Z
LAST-MODIFIED:20260224T183944Z
UID:2622-1772996400-1773003600@tvbh.tv
SUMMARY:Call The Police
DESCRIPTION:CALL THE POLICE TOUR 2026 EM BELO HORIZONTE\nAndy Summers\, João Barone e Rodrigo Santos revisitam os clássicos do The Police em apresentação única \nBelo Horizonte recebe\, no dia 8 de março\, às 19h\, no Palácio das Artes\, a turnê Call The Police Tour 2026\, que celebra uma década de estrada. O projeto reúne três gigantes da música: Andy Summers\, guitarrista lendário do The Police; João Barone\, baterista dos Paralamas do Sucesso; e Rodrigo Santos\, cantor\, compositor e ex-integrante do Barão Vermelho. \nO espetáculo revisita os maiores clássicos de uma das bandas mais icônicas da história do rock britânico\, como “Every Breath You Take”\, “Message in a Bottle”\, “Roxanne”\, “So Lonely” e “Every Little Thing She Does Is Magic”\, prometendo uma noite inesquecível para fãs de diferentes gerações. \nA combinação entre a guitarra inconfundível de Andy Summers\, a precisão rítmica de João Barone e a potência vocal de Rodrigo Santos resulta em uma homenagem vibrante e autêntica ao legado do The Police\, banda que marcou gerações\, vendeu mais de 75 milhões de discos em todo o mundo e revolucionou o rock ao fundir reggae\, punk e new wave. O repertório reserva ainda surpresas especiais preparadas exclusivamente para esta turnê comemorativa de 10 anos. \nA história do Call The Police começou em 2014\, quando Andy Summers e Rodrigo Santos se conheceram no Rio de Janeiro\, por intermédio do empresário Luiz Paulo Assunção. O encontro revelou uma afinidade musical imediata\, que rapidamente evoluiu para uma amizade genuína e uma parceria criativa duradoura. As primeiras apresentações já mesclavam clássicos do The Police\, do Barão Vermelho e canções da carreira solo de Rodrigo\, conquistando o público com essa fusão singular de repertórios. \nEm 2016\, a formação ganhou sua identidade definitiva com a entrada de João Barone\, um dos bateristas mais respeitados e versáteis do Brasil. Foi Barone quem batizou o projeto com o nome Call The Police\, consolidando o tributo que se tornaria referência nacional na celebração da obra da lendária banda britânica. \n“Será uma oportunidade incrível poder tocar com uma lenda da guitarra como Andy Summers e com Rodrigo\, que está surpreendendo ao interpretar o repertório clássico do The Police. Acima de tudo\, fica o nosso respeito e agradecimento a Andy\, Stewart e Sting por tudo o que fizeram pela música. A obra do The Police está no hall da fama do rock”\, destaca Barone. \nPara Rodrigo Santos\, a parceria tem um significado especial. “É uma dádiva poder tocar e ser amigo de um ídolo de uma das maiores bandas da história. Andy está conosco\, se divertindo\, querendo nos levar para vários países do mundo. Nos escolheu para sermos a turma oficial que vai rodar o planeta tocando The Police”\, comemora o músico. \nFã declarado da música brasileira\, Andy Summers já gravou e dividiu o palco com nomes como Roberto Menescal\, Gilberto Gil e Victor Biglione\, além de ter colaborado com artistas como Robert Fripp e o grupo The Animals. Considerado um dos maiores guitarristas de todos os tempos pela revista Guitar Player\, Summers lançou\, em 2016\, o documentário “Can’t Stand Losing You”\, premiado em diversos festivais de cinema\, que retrata a trajetória do The Police. \nJoão Barone\, integrante e fundador dos Paralamas do Sucesso\, teve sua carreira frequentemente associada ao The Police pela crítica\, especialmente pela semelhança de seu estilo com o do baterista Stewart Copeland. Ao longo dos anos\, Barone cruzou caminhos com seus ídolos em momentos marcantes\, como em 2007\, quando os Paralamas abriram o show do The Police no Maracanã\, e em 2011\, no Festival PercPan\, em São Paulo\, quando tocou ao lado de Copeland. \nJá Rodrigo Santos\, após 25 anos como baixista do Barão Vermelho\, seguiu carreira solo a partir de 2017\, à frente da banda Rodrigo Santos e os Lenhadores e em diversos projetos especiais. Com 10 CDs\, dois DVDs e a biografia “Cara a Cara”\, Rodrigo é considerado por Andy Summers um dos maiores artistas com quem já trabalhou\, consolidando seu nome na história do rock brasileiro. \nA Call The Police Tour 2026 promete uma noite de celebração\, nostalgia e excelência musical\, reunindo três nomes fundamentais do rock nacional e internacional em um encontro histórico para o público de Belo Horizonte. \nSERVIÇO\nData 📅: 08/03/2026\nHorário: 19h00\nLocal: Grande Teatro Cemig Palácio das Artes\nEndereço 📍: Av. Afonso Pena\, 1537 – Centro – Belo Horizonte/MG\nAbertura da Casa: 1h antes do ínico do evento\nClassificação etária 🚫: 18 anos. Menores de 14 anos devem entrar acompanhados dos pais e/ou responsáveis legais.
URL:https://tvbh.tv/evento/call-the-police/
LOCATION:Palácio das Artes\, Av. Afonso Pena\, 1537\, Belo Horizonte\, Minas Gerais
CATEGORIES:Show
ATTACH;FMTTYPE=image/jpeg:https://tvbh.tv/wp-content/uploads/2026/02/ac_callthepolice.jpg
END:VEVENT
BEGIN:VEVENT
DTSTART;TZID=America/Sao_Paulo:20260308T193000
DTEND;TZID=America/Sao_Paulo:20260308T220000
DTSTAMP:20260423T151758
CREATED:20251118T211501Z
LAST-MODIFIED:20251118T211501Z
UID:1519-1772998200-1773007200@tvbh.tv
SUMMARY:Jason Mraz - Return To South America
DESCRIPTION:RETURN TO SOUTH AMERICA 2026 \nANÚNCIO – 18/11 ÀS 12h \nVENDA GERAL – 19/11 ÀS 12h \n  \nLocal:  BEFLY HALL – AV. NOSSA SRA. DO CARMO\, 230 – SAVASSI – BELO HORIZONTE / MG \nData e horário: 08 de março de 2026\, domingo\, às 19h30 \nAbertura dos portões: 17h30 \nClassificação etária: 18 anos\, menores de 18 anos somente acompanhados dos pais ou do responsável legal\, com documentação comprobatória. Aqui \nAcessibilidade para PCD.
URL:https://tvbh.tv/evento/jason-mraz-return-to-south-america/
LOCATION:BeFly Hall\, Av. Nossa Senhora do Carmo\, 230 - Savassi\, Belo Horizonte\, Minas Gerais
CATEGORIES:Show
ATTACH;FMTTYPE=image/jpeg:https://tvbh.tv/wp-content/uploads/2025/11/ag_jasonmraz.jpg
END:VEVENT
BEGIN:VEVENT
DTSTART;TZID=America/Sao_Paulo:20260313T170000
DTEND;TZID=America/Sao_Paulo:20260315T210000
DTSTAMP:20260423T151758
CREATED:20260311T152449Z
LAST-MODIFIED:20260311T152449Z
UID:2817-1773421200-1773608400@tvbh.tv
SUMMARY:Festival Rock na Rua
DESCRIPTION:
URL:https://tvbh.tv/evento/festival-rock-na-rua/
LOCATION:Avenida Saramenha\, Av. Saramenha\, 1927 - Guarani\, Belo Horizonte\, Minas Gerais
CATEGORIES:Festival
ATTACH;FMTTYPE=image/jpeg:https://tvbh.tv/wp-content/uploads/2026/03/ac_rockrua2.jpg
END:VEVENT
BEGIN:VEVENT
DTSTART;TZID=America/Sao_Paulo:20260313T210000
DTEND;TZID=America/Sao_Paulo:20260313T230000
DTSTAMP:20260423T151758
CREATED:20251216T194706Z
LAST-MODIFIED:20251216T194706Z
UID:2080-1773435600-1773442800@tvbh.tv
SUMMARY:Lobão Powertrio
DESCRIPTION:Lobão desembarca em BH com seu Power Trio no Palácio das Artes no dia 13 de março de 2026 \nNo repertório sucessos que atravessaram gerações e reafirmando a vitalidade de um repertório que faz parte da história da música brasileira \nCantor\, compositor e instrumentista\, Lobão se apresenta em Belo Horizonte com seu Power Trio no Palácio das Artes\, no dia 13 de março (sexta-feira)\, às 21h.\nO Power Trio de Lobão traz ao palco a energia essencial do rock em sua forma mais direta: guitarra\, baixo e bateria. Ao lado de Guto Passos (baixo) e Willian Paiva (bateria)\, Lobão assume a guitarra e a voz\, em um formato que resgata a sonoridade crua que sempre marcou sua trajetória artística.\nOs ingressos estão à venda nas bilheterias do Palácio das Artes e no site Eventim.\nO show percorre diferentes fases da carreira do artista\, reunindo sucessos que atravessaram gerações e reafirmando a vitalidade de um repertório que faz parte da história da música brasileira — e que permanece atual. A performance intensa do trio cria uma experiência vibrante e autêntica\, em sintonia com a criatividade que acompanha Lobão desde os anos 1970\, quando iniciou sua jornada na Vímana e na Blitz\, antes de consolidar-se em carreira solo.\nA década de 1980 marcou o início de Lobão como artista solo. Álbuns como Cena de Cinema (1982)\, Ronaldo Foi pra Guerra (1984) e O Rock Errou (1985) consagraram sucessos como “O Homem-Baile”\, “Me Chama” e “Revanche”\, entre tantos outros. A faixa-título do álbum Vida Louca Vida também se destacou nas paradas e rádios de todo o país.\nCom mais de 50 anos de carreira\, cinco livros lançados\, canções icônicas e um Latin GRAMMY no currículo\, Lobão segue atual e relevante. Transita entre grandes festivais e apresentações intimistas em teatros. Em 2025\, está na estrada com seu Power Trio feroz\, entregando um setlist de tirar o fôlego e reafirmando sua essência artística. \nSujeita a viradas de lotes sem aviso prévio. \nSERVIÇO\nData 📅: 13/03/2026\nHorário: 21h00\nLocal: Grande Teatro Cemig Palácio das Artes\nEndereço 📍: Av. Afonso Pena\, 1537 – Centro – Belo Horizonte/MG\nAbertura da Casa: 1h antes do ínico do evento\nClassificação etária 🚫: Livre. Menores de 14 anos devem entrar acompanhados dos pais e/ou responsáveis legais.\n🎫 A Eventim não se responsabiliza por compras efetuadas em canais não oficiais. \nBILHETERIA OFICIAL – SEM COBRANÇA DE TAXA DE CONVENIÊNCIA\nBilheteria Palácio das Artes\nAv. Afonso Pena\, 1537\nHorário de funcionamento: Segunda a Sábado: 12h às 21h\nDomingo: 17h às 20h \nPONTO DE VENDA – SUJEITO À COBRANÇA DE TAXA DE SERVIÇO\nBILHETERIAS EVENTIM\nRua Alagoas\, 1314 (Funcionários)\, Belo Horizonte\, MG\n(*) Funcionamento: segunda à sexta\, das 10h00 às 19h00.
URL:https://tvbh.tv/evento/lobao-powertrio/
LOCATION:Palácio das Artes\, Av. Afonso Pena\, 1537\, Belo Horizonte\, Minas Gerais
CATEGORIES:Show
ATTACH;FMTTYPE=image/png:https://tvbh.tv/wp-content/uploads/2025/12/ag_lobaopowrtrio.png
END:VEVENT
BEGIN:VEVENT
DTSTART;TZID=America/Sao_Paulo:20260321T210000
DTEND;TZID=America/Sao_Paulo:20260321T230000
DTSTAMP:20260423T151758
CREATED:20260317T005521Z
LAST-MODIFIED:20260317T005521Z
UID:2911-1774126800-1774134000@tvbh.tv
SUMMARY:Biquini 40
DESCRIPTION:A VIDA COMEÇA AOS 40”\, UMA TOUR ESPECIAL PARA CELEBRAR OS 40 ANOS DA BANDA BIQUINI QUE ACONTECE NO DIA 21 DE MARÇO NO BEFLY HALL \nNo repertório\, músicas de sua trajetória cantando seus maiores sucessos \n  \nA banda Biquini celebra 40 anos de carreira e desembarca em BH com a tour inédita “A Vida Começa Aos 40”\, no dia 21 de março de 2026\, sábado\, no Befly Hall\, com repertório repleto de seus maiores sucessos\, como Timidez\, Vento Ventania\, Dani\, Chove Chuva\, entre outras. \nOs ingressos estão disponíveis na bilheteria do BeFly Hall e no site do Sympla. \nO Biquini celebra os seus 40 anos. Parece que foi ontem que Bruno Gouveia\, Miguel Flores da Cunha\, Álvaro Birita e Carlos Coelho começaram esta longa caminhada de mais de 2500 shows por todos os estados do país e em mais de 800 cidades do Brasil e do mundo. Nunca pararam um ano sequer! São queridos e amados em cada cantinho do nosso imenso país. Uma tradição que se passa de pai pra filho e\, por que não\, agora também para netos! Com quase dois milhões de discos vendidos e outros milhões de seguidores em redes e plataformas musicais\, o Biquini chega com uma tournée mais que comemorativa. \nUm novo disco será lançado com músicas inéditas. É assim\, com orgulho do passado e um olhar pro futuro\, que a banda aposta em sua carreira. Os shows passarão por todo país\, celebrando a data com os fãs e com um show renovado em repertório e em todo seu visual. Tudo pensado em seus mínimos detalhes. Com figurino assinado por Rodrigo Fraga\, tudo estará sendo filmado para um grande documentário. Um vinho\, em parceria com a vinícola Helios\, também será lançado. \nO nome da turnê não poderia ser melhor: A Vida Começa aos 40! Parece até contradizer os versos de Zé Ninguém\, sucesso do Biquini de 1991\, mas a verdade é que nunca a banda esteve em melhor fase. Seus shows tem lotado arenas\, festas e eventos de todo país. Num mundo onde o etarismo parece contaminar muitas pessoas e diversos profissionais tem suas carreiras abreviadas\, A Vida Começa Aos 40 é uma prova do quanto a maturidade\, experiência de campo е vivência de Bruno\, Coelho\, Miguel e Álvaro fazem a diferença no palco. Os garotos de 18 anos que começaram esta viagem em 1985 continuam pulando dentro deles. E o melhor ainda está por vir\, iniciando esta turnê no Circo Voador\, onde tudo começou! \n  \nBIQUINI \nSERVIÇO \nLOCAL: BEFLY HALL – AV. NOSSA SRA. DO CARMO\, 230 – SAVASSI – BELO HORIZONTE / MG \nDATA E HORÁRIO: 21 DE MARÇO DE 2026\, SÁBADO. \nABERTURA DOS PORTÕES: 19:00. \nSHOW: 21:00. \nCLASSIFICAÇÃO ETÁRIA: 18 anos.
URL:https://tvbh.tv/evento/biquini-40/
LOCATION:BeFly Hall\, Av. Nossa Senhora do Carmo\, 230 - Savassi\, Belo Horizonte\, Minas Gerais
CATEGORIES:Show
ATTACH;FMTTYPE=image/jpeg:https://tvbh.tv/wp-content/uploads/2026/03/ac_biquini.jpg
END:VEVENT
BEGIN:VEVENT
DTSTART;TZID=America/Sao_Paulo:20260321T210000
DTEND;TZID=America/Sao_Paulo:20260322T210000
DTSTAMP:20260423T151758
CREATED:20260115T144101Z
LAST-MODIFIED:20260115T144101Z
UID:2245-1774126800-1774213200@tvbh.tv
SUMMARY:Fagner - Muito Amor
DESCRIPTION:Os fãs mineiros de Fagner têm um encontro marcado com o cantor em BH\, nos dias 21 e 22 de março: é a nova turnê do show inédito “MUITO AMOR”\, que ele apresenta em duas noites no Palácio das Artes.
URL:https://tvbh.tv/evento/fagner-muito-amor/
LOCATION:Palácio das Artes\, Av. Afonso Pena\, 1537\, Belo Horizonte\, Minas Gerais
CATEGORIES:Show
ATTACH;FMTTYPE=image/jpeg:https://tvbh.tv/wp-content/uploads/2026/01/ag_fagner.jpg
END:VEVENT
END:VCALENDAR