BEGIN:VCALENDAR
VERSION:2.0
PRODID:-//TVBH.TV - ECPv6.15.20//NONSGML v1.0//EN
CALSCALE:GREGORIAN
METHOD:PUBLISH
X-ORIGINAL-URL:https://tvbh.tv
X-WR-CALDESC:Eventos para TVBH.TV
REFRESH-INTERVAL;VALUE=DURATION:PT1H
X-Robots-Tag:noindex
X-PUBLISHED-TTL:PT1H
BEGIN:VTIMEZONE
TZID:America/Sao_Paulo
BEGIN:STANDARD
TZOFFSETFROM:-0300
TZOFFSETTO:-0300
TZNAME:-03
DTSTART:20250101T000000
END:STANDARD
END:VTIMEZONE
BEGIN:VEVENT
DTSTART;TZID=America/Sao_Paulo:20260613T170000
DTEND;TZID=America/Sao_Paulo:20260613T190000
DTSTAMP:20260423T165253
CREATED:20260121T172438Z
LAST-MODIFIED:20260121T172557Z
UID:2310-1781370000-1781377200@tvbh.tv
SUMMARY:Alceu Valença - 80 Girassóis
DESCRIPTION:Alceu Valença celebra oito décadas de vida e poesia com a turnê “80 Girassóis”\, que chega à capital mineira no dia 13 de junho de 2026\, no Estádio Mineirão. A partir das 17h00\, o público ﬁcará imerso em uma viagem sonora pelos clássicos e trajetórias de um artista que pulsa cultura nordestina em cada acorde. A turnê reúne o vigor de Alceu aos 80 anos com produção de grandes casas\, cenografia e banda completa\, exaltando o imaginário solar do cantor. Um encontro entre passado\, presente e futuro — como um único e grande girassol brilhando no palco.
URL:https://tvbh.tv/evento/alceu-valenca-80-girassois/
LOCATION:Esplanada do Mineirão – Mieirão\, Av. Presidente Carlos Luz - São Luiz\, Belo Horizonte\, Minas Gerais
CATEGORIES:Show
ATTACH;FMTTYPE=image/jpeg:https://tvbh.tv/wp-content/uploads/2026/01/ac_alceu80.jpg
END:VEVENT
BEGIN:VEVENT
DTSTART;TZID=America/Sao_Paulo:20260627T150000
DTEND;TZID=America/Sao_Paulo:20260627T160000
DTSTAMP:20260423T165253
CREATED:20260115T144510Z
LAST-MODIFIED:20260115T144510Z
UID:2251-1782572400-1782576000@tvbh.tv
SUMMARY:Gato Galactico em O Reino Mágico
DESCRIPTION:O Reino Mágico é o novo espetáculo do Gato Galactico — um show ao vivo que celebra o poder mágico dos sonhos e a capacidade única que cada criança tem de imaginar\, criar e transformar o próprio futuro. \nNeste quinto ano de turnê\, o Gato Galactico apresenta sua produção mais encantadora: um espetáculo com música\, dança e uma experiência imersiva que encanta crianças e famílias. \nNo Reino Mágico\, o público reencontra seus personagens favoritos: Roni\, Luna\, Mimi e o Gato Lunático — em uma história que revela como os sonhos constroem caminhos\, resolvem conflitos e iluminam a jornada das crianças. \nO espetáculo também apresenta o universo que as crianças já amam: o mundo do Gato Galactico\, que neste show navega por diferentes reinos\, incluindo Patrulha Estelar\, Prismágicos e muitos outros\,trazendo para o palco todas as aventuras\, cores e personagens que fazem parte do imaginário dos pequenos. \nPara as famílias\, o show oferece um encontro emocionante com valores positivos\, humor\, afeto e inspiração\, reforçando a mensagem central:sonhar é o primeiro passo para realizar. \nCom músicas reconhecidas\, coreografias marcantes\, personagens icônicos e um enredo que celebra imaginação\, coragem e esperança\, o Reino Mágico entrega uma experiência inesquecível\, daquelas que ficam guardadas para sempre na memória. \nO Gato Galactico retorna aos palcos com seu maior espetáculo\, reunindo tudo o que o público mais ama: encanto\, magia e o poder transformador dos sonhos. \nSERVIÇO \nData: 27/06/2026 \nShow: 15:00 \nAbertura dos portões: 14:00 \nDuração: 60 min \nClassificação: Livre ( menores de 18 anos deverao estar acompanhados dos pais ). \nLocal: Grande Teatro BeFly Minascentro \nEndereço: Avenida Augusto de Lima\, 785\, Centro. Belo Horizonte/MG. \nClassificação etária: 18 anos (Menores deverão estar acompanhados dos pais). \nVENDA DE INGRESSOS \nAtendimento da Bilheteria ( Novo Endereço ) \nLOCAL: BEFLY HALL – AV. NOSSA SRA. DO CARMO\, 230 – SAVASSI – BELO HORIZONTE / MG \nDIAS E HORÁRIOS: Terça a Sábado das 12h às 15h – 16h às 20h.
URL:https://tvbh.tv/evento/gato-galactico-em-o-reino-magico/
LOCATION:BeFly Minascentro\, Av. Augusto de Lima\, 785 - Centro\, Belo Horizonte\, Minas Gerais
CATEGORIES:Musical
ATTACH;FMTTYPE=image/jpeg:https://tvbh.tv/wp-content/uploads/2026/01/ag_reinomagico.jpg
END:VEVENT
END:VCALENDAR