BEGIN:VCALENDAR
VERSION:2.0
PRODID:-//TVBH.TV - ECPv6.15.20//NONSGML v1.0//EN
CALSCALE:GREGORIAN
METHOD:PUBLISH
X-ORIGINAL-URL:https://tvbh.tv
X-WR-CALDESC:Eventos para TVBH.TV
REFRESH-INTERVAL;VALUE=DURATION:PT1H
X-Robots-Tag:noindex
X-PUBLISHED-TTL:PT1H
BEGIN:VTIMEZONE
TZID:America/Sao_Paulo
BEGIN:STANDARD
TZOFFSETFROM:-0300
TZOFFSETTO:-0300
TZNAME:-03
DTSTART:20250101T000000
END:STANDARD
END:VTIMEZONE
BEGIN:VEVENT
DTSTART;TZID=America/Sao_Paulo:20260829T210000
DTEND;TZID=America/Sao_Paulo:20260829T230000
DTSTAMP:20260423T211043
CREATED:20251216T195455Z
LAST-MODIFIED:20251216T195455Z
UID:2085-1788037200-1788044400@tvbh.tv
SUMMARY:Oswaldo Montenegro - A Dança dos Signos
DESCRIPTION:Um dos maiores fenômenos da década de 80\, “A Dança dos Signos”\, de Oswaldo Montenegro\, volta à cena em 2026\, ano em que o autor comemora 70 anos de vida \nBelo Horizonte\, Palácio das Artes\, 29 de agosto\, às 21h. \n“A Dança dos Signos” é um fenômeno de sucesso. O que faz com que um espetáculo bata todos os recordes de público? A qualidade das músicas? Textos que vão direto à alma de quem o assiste? Arranjos inspirados? A sensibilidade mesclada ao humor? Alguma coisa que se captou do inconsciente coletivo? Ninguém sabe explicar\, mas esses acontecimentos ocorrem muito raramente e têm que ser celebrados. \nPara comemorar seus setenta anos\, o autor decidiu remontar o maior sucesso de sua carreira e sair em turnê em 2026. \nO show começa com o compositor cantando sua música “A Lista” e contando uma história que revela por que escolheu essa canção para abrir a apresentação. Na sequência\, ele dá início à “A Dança dos Signos”. \nEntre um signo e outro\, o artista bate papo com o público\, falando sobre figuras icônicas de cada signo\, cantando ou tocando canções de alguns deles. “A Palo Seco”\, do escorpiano Belchior; “Eu não existo sem você”\, do genial aquariano Tom Jobim; citações instrumentais como “Your Song”\, do ariano Elton John; e trechos de músicas do libriano John Lennon e dos geminianos Paul McCartney\, Bob Dylan e Chico Buarque [; tudo isso] se misturam a canções de sua carreira\, como “Incompatibilidade”\, tudo guiado por um fio condutor emocional extremamente bem costurado. \nCom isso\, o criador mergulha na sua essência: o Menestrel na sua máxima potência\, aquele que percorre cidades cantando e contando histórias\, conduzindo o público por lugares mágicos\, onde o lúdico e a poesia pedem passagem. \nA afiada dupla Oswaldo Montenegro e Madalena Salles (flautista e sua fiel companheira de andanças)\, numa sintonia fina\, “pintam e bordam” no palco\, tanto em esquetes bem-humoradas como nos textos inspirados do autor e na trilha sonora acertada\, percorrendo cada signo do zodíaco. \nNessa tour comemorativa\, Montenegro terá a seu lado um time de peso. No palco\, além da flautista Madalena Salles\, o multi-instrumentista Alexandre Meu Rei\, a violoncelista Janaína Salles e ele próprio na viola de 12 cordas contracenam com inúmeras participações virtuais que acontecem num imenso painel de LED\, com cenas emocionantes\, jogos de sombras criativos e coreografias\, já que agora “A Dança dos Signos” virou multimídia\, com interatividade absoluta entre palco e telão. \nAtravés da Astrologia\, tipos humanos foram retratados\, o que faz com que cada pessoa da plateia se identifique com o que está sendo contado. E\, mais do que falar de Astrologia\, “A Dança dos Signos” propõe\, de forma poética\, a pacífica convivência das diferenças\, porque\, na diversidade dos signos\, os tipos humanos se misturam no democrático painel do zodíaco. \n“A Dança dos Signos” causa um bem-estar inexplicável em quem a assiste. A análise fria de por que isso acontece não importa. A experiência\, sim\, de viver essas emoções\, é imperdível. \nCom concepção\, texto\, músicas e direção de Oswaldo Montenegro; direção de fotografia\, edição e colorização de Ian Ruas; direção de arte\, figurinos e adereços de Teca Fichinski; produção de Oswaldo Montenegro e Kamila Pistori; e assistência de direção artística de Madalena Salles\, o espetáculo reúne mais de cinquenta profissionais. Aos setenta anos\, seu criador segue como um dos artistas mais criativos e surpreendentes de seu tempo. \nSujeita a viradas de lotes sem aviso prévio. \nSERVIÇO\nData 📅: 29/08/2026\nHorário: 21h00\nLocal: Grande Teatro Cemig Palácio das Artes\nEndereço 📍: Av. Afonso Pena\, 1537 – Centro – Belo Horizonte/MG\nAbertura da Casa: 1hora antes do evento\nClassificação etária 🚫: Livre. Menores de 14 anos devem entrar acompanhados dos pais e/ou responsáveis legais.\n🎫 A Eventim não se responsabiliza por compras efetuadas em canais não oficiais. \nBILHETERIA OFICIAL – SEM COBRANÇA DE TAXA DE CONVENIÊNCIA\nBilheteria Palácio das Artes\nAv. Afonso Pena\, 1537\nHorário de funcionamento: Segunda a Sábado: 12h às 21h\nDomingo: 17h às 20h \nPONTO DE VENDA – SUJEITO À COBRANÇA DE TAXA DE SERVIÇO\nBILHETERIAS EVENTIM\nRua Alagoas\, 1314 (Funcionários)\, Belo Horizonte\, MG\n(*) Funcionamento: segunda à sexta\, das 10h00 às 19h00.
URL:https://tvbh.tv/evento/oswaldo-montenegro-a-danca-dos-signos/
LOCATION:Palácio das Artes\, Av. Afonso Pena\, 1537\, Belo Horizonte\, Minas Gerais
CATEGORIES:Show
ATTACH;FMTTYPE=image/jpeg:https://tvbh.tv/wp-content/uploads/2025/12/ag_oswmont.jpg
END:VEVENT
END:VCALENDAR